BEGIN:VCALENDAR
VERSION:2.0
PRODID:-//wp-events-plugin.com//7.2.3.1//EN
TZID:America/New_York
X-WR-TIMEZONE:America/New_York
BEGIN:VEVENT
UID:2139@wvpst.org
DTSTART;TZID=America/New_York:20220922T180000
DTEND;TZID=America/New_York:20220922T220000
DTSTAMP:20220714T183437Z
URL:https://wvpst.org/events/als-skills-day/
SUMMARY:ALS Skills Day
DESCRIPTION:Hampshire County ESA will be hosting a ALS Skills Day on Septem
 ber 22 from 6-10. This class is open to any provider that needs to fulfill
  a skills day requirement. Courtney Turner will be the instructor.\n\n&nbs
 p\;\n\n&nbsp\;\n\nALS Skills Day Flyer
CATEGORIES:WVPST Martinsburg
LOCATION:Hampshire County ESA\, 1160 Jersey Mountain Road\, Romney\, WV\, 2
 6757\, United States
GEO:39.343149;-78.705413
X-APPLE-STRUCTURED-LOCATION;VALUE=URI;X-ADDRESS=1160 Jersey Mountain Road\,
  Romney\, WV\, 26757\, United States;X-APPLE-RADIUS=100;X-TITLE=Hampshire 
 County ESA:geo:39.343149,-78.705413
END:VEVENT
BEGIN:VTIMEZONE
TZID:America/New_York
X-LIC-LOCATION:America/New_York
BEGIN:DAYLIGHT
DTSTART:20220313T030000
TZOFFSETFROM:-0500
TZOFFSETTO:-0400
TZNAME:EDT
END:DAYLIGHT
END:VTIMEZONE
END:VCALENDAR