BEGIN:VCALENDAR
VERSION:2.0
PRODID:-//wp-events-plugin.com//7.2.3.1//EN
TZID:America/New_York
X-WR-TIMEZONE:America/New_York
BEGIN:VEVENT
UID:961@wvpst.org
DTSTART;TZID=America/New_York:20190731T173000
DTEND;TZID=America/New_York:20190731T220000
DTSTAMP:20190624T194547Z
URL:https://wvpst.org/events/aha-heartsaver-cpr-aed-first-aid-3/
SUMMARY:AHA Heartsaver CPR/AED/First Aid
DESCRIPTION:An American Heart Association Heartsaver Adult/Child/Infant CPR
  and AED course will be held at United Technical Center\, 251 Marietta St.
 \, Clarksburg\, WV 26301 on Wednesday\, July 31\, 2019 starting at 5:30 pm
 .  Course location will be at the portable classroom next to the burn tow
 er.  This is a lay rescuer level course\, so if you require a healthcare 
 provider level course please contact us to discuss getting that training. 
 Cost for the course will be $35 per student\, which includes a copy of the
  student textbook. You MUST register for the course in advance so that we 
 can plan instructors and course materials appropriately.\nREGISTER: Using 
 the link below or contact us via email at bpotter.wvpst@gmail.com or by ca
 lling the Public Service Training-Clarksburg office at 304-326-7581.\nDISC
 LAIMER — The American Heart Association strongly promotes knowledge and 
 proficiency in BLS\, ACLS\, and PALS and has developed instructional mater
 ials for this purpose. Use of these materials in an educational course doe
 s not represent course sponsorship by the American Heart Association. Any 
 fees charged for such a course\, except for a portion of fees needed for A
 HA course material\, do not represent income to the Association.
CATEGORIES:WVPST Clarksburg
LOCATION:\, \, 
X-APPLE-STRUCTURED-LOCATION;VALUE=URI;X-ADDRESS=\, ;X-APPLE-RADIUS=100;X-TI
 TLE=:geo:0,0
END:VEVENT
BEGIN:VTIMEZONE
TZID:America/New_York
X-LIC-LOCATION:America/New_York
BEGIN:DAYLIGHT
DTSTART:20190310T030000
TZOFFSETFROM:-0500
TZOFFSETTO:-0400
TZNAME:EDT
END:DAYLIGHT
END:VTIMEZONE
END:VCALENDAR