BEGIN:VCALENDAR
VERSION:2.0
PRODID:-//wp-events-plugin.com//7.2.3.1//EN
TZID:America/New_York
X-WR-TIMEZONE:America/New_York
BEGIN:VEVENT
UID:977@wvpst.org
DTSTART;TZID=America/New_York:20191118T173000
DTEND;TZID=America/New_York:20191118T213000
DTSTAMP:20190701T144244Z
URL:https://wvpst.org/events/aha-first-aid-21/
SUMMARY:AHA First Aid
DESCRIPTION:AHA First Aid\n\nAmerican Heart Association First Aid Training 
 is offered at the EPIC Office on the Third Monday of every month (except J
 uly and August) starting at 5:30 pm. Participants must be preregistered\, 
 and payment must be made prior to the start of the class. To enroll\, cont
 act Mary Lou Largent\, WVPST Martinsburg CPR Coordinator\, at 304 596-2651
  or 800 367-3728 Ext. 126 or by email mlargent@wvesc.org\nAmerican Heart A
 ssociation Heartsaver CPR is offered at the EPIC Office on the Third Tuesd
 ay of every month (except July and August) starting at 5:30 pm. Participan
 ts must be preregistered\, and payment must be made prior to the start of 
 the class. To enroll\, contact Mary Lou Largent\, WVPST Martinsburg CPR Co
 ordinator\, at 304 596-2651 or 800 367-3728 Ext. 126 or by email mlargent@
 wvesc.org\nBLS level Healthcare Provider CPR is also provided by WVPST at 
 numerous locations and times. For information on current available classes
  contact Mary Lou Largent\, WVPST Martinsburg CPR Coordinator\, at 304 596
 -2651 or 800 367-3728 Ext. 126 or by email mlargent@wvesc.org
CATEGORIES:WVPST Martinsburg
LOCATION:Eastern Panhandle Instructional Cooperative (EPIC)\, 109 S College
  Street\, Martinsburg\, WV\, 25401\, United States
GEO:39.45733300000001;-77.965078
X-APPLE-STRUCTURED-LOCATION;VALUE=URI;X-ADDRESS=109 S College Street\, Mart
 insburg\, WV\, 25401\, United States;X-APPLE-RADIUS=100;X-TITLE=Eastern Pa
 nhandle Instructional Cooperative (EPIC):geo:39.45733300000001,-77.965078
END:VEVENT
BEGIN:VTIMEZONE
TZID:America/New_York
X-LIC-LOCATION:America/New_York
BEGIN:STANDARD
DTSTART:20191103T010000
TZOFFSETFROM:-0400
TZOFFSETTO:-0500
TZNAME:EST
END:STANDARD
END:VTIMEZONE
END:VCALENDAR