BEGIN:VCALENDAR
VERSION:2.0
PRODID:-//wp-events-plugin.com//7.2.3.1//EN
TZID:America/New_York
X-WR-TIMEZONE:America/New_York
BEGIN:VEVENT
UID:986@wvpst.org
DTSTART;TZID=America/New_York:20190802T090000
DTEND;TZID=America/New_York:20190802T170000
DTSTAMP:20190709T185353Z
URL:https://wvpst.org/events/aha-cpr-instructor-course/
SUMMARY:AHA CPR Instructor Course
DESCRIPTION:CPR and First Aid\n\nCardiopulmonary Resuscitation\, or CPR\, i
 s a simple lifesaving technique\, but training is required for proper perf
 ormance.  Public Service Training offers CPR for both the average laypers
 on and the professional healthcare provider.  CPR classes include AED tra
 ining.  Basic First Aid skills allow the proper treatment of minor incide
 nts.  For more serious injuries and illnesses First Aid training prepares
  you for what to do until help arrives.  For more information contact you
 r local Public Service Training Coordinator.\n\n**This course will teach y
 ou to instruct the above mentioned courses.**\n\nCost:  $250\n\nInstructo
 r:  Mike Tanner\n\nYou may copy the below information into an email and s
 ubmit to eva.godbey@k12.wv.us to register:\n\nName:  ____________________
 _______________________________________\n\n Date of Birth:  ____________
 __________________________________________\n\n Address: _________________
 ________________________________________\n\n City/State:  ______________
 ______________________ Postal Code: __________\n\n Phone Number: ________
 ________ Email Address: _________________________\n\n Affiliation: ______
 __________________________________________________\n\nFor Registration ple
 ase contact Ms. Eva Godbey at (304) 766-0011 ext. 22.
CATEGORIES:WVPST Parkersburg
LOCATION:Parkersburg Fire Station 6\, 2311 Camden Ave.\, Parkersburg\, WV\,
  25101\, United States
GEO:39.2551835;-81.54927780000003
X-APPLE-STRUCTURED-LOCATION;VALUE=URI;X-ADDRESS=2311 Camden Ave.\, Parkersb
 urg\, WV\, 25101\, United States;X-APPLE-RADIUS=100;X-TITLE=Parkersburg Fi
 re Station 6:geo:39.2551835,-81.54927780000003
END:VEVENT
BEGIN:VTIMEZONE
TZID:America/New_York
X-LIC-LOCATION:America/New_York
BEGIN:DAYLIGHT
DTSTART:20190310T030000
TZOFFSETFROM:-0500
TZOFFSETTO:-0400
TZNAME:EDT
END:DAYLIGHT
END:VTIMEZONE
END:VCALENDAR