BEGIN:VCALENDAR
VERSION:2.0
PRODID:-//wp-events-plugin.com//7.2.3.1//EN
TZID:America/New_York
X-WR-TIMEZONE:America/New_York
BEGIN:VEVENT
UID:2977@wvpst.org
DTSTART;TZID=America/New_York:20260322T080000
DTEND;TZID=America/New_York:20260322T160000
DTSTAMP:20260309T174726Z
URL:https://wvpst.org/events/aha-bls-instructor-essentials-2/
SUMMARY:AHA BLS Instructor Essentials
DESCRIPTION:WVPST is pleased to announce a BLS Instructor Course. \n\nLocat
 ion: Guyan River VFD (3329 McClellan Highway\, Branchland\, WV 25506)\n\nD
 escription: This course will allow the individual to teach both Heartsaver
  and Basic Life Support CPR courses within ones agency or department. \n\n
 PRE-REGISTRATION REQUIRED!! \n \nTo Register: Pre-registration required on
 line at www.wvpst.org. Select Charleston and click on the class in the cal
 endar. Minimum of 15 students required. \n \nIf you have any questions or 
 issues registering\, please contact Eva Godbey at eva.godbey@k12.wv.us\n\n
 26-504-03 Flier
CATEGORIES:WVPST Charleston
LOCATION:Guyan River VFD\, 3329 McClellan Hwy\, Branchland\, WV\, 25506\, U
 nited States
GEO:38.198914;-82.102088
X-APPLE-STRUCTURED-LOCATION;VALUE=URI;X-ADDRESS=3329 McClellan Hwy\, Branch
 land\, WV\, 25506\, United States;X-APPLE-RADIUS=100;X-TITLE=Guyan River V
 FD:geo:38.198914,-82.102088
END:VEVENT
BEGIN:VTIMEZONE
TZID:America/New_York
X-LIC-LOCATION:America/New_York
BEGIN:DAYLIGHT
DTSTART:20260308T030000
TZOFFSETFROM:-0500
TZOFFSETTO:-0400
TZNAME:EDT
END:DAYLIGHT
END:VTIMEZONE
END:VCALENDAR