BEGIN:VCALENDAR
VERSION:2.0
PRODID:-//wp-events-plugin.com//7.2.3.1//EN
TZID:America/New_York
X-WR-TIMEZONE:America/New_York
BEGIN:VEVENT
UID:2864@wvpst.org
DTSTART;TZID=America/New_York:20251217T180000
DTEND;TZID=America/New_York:20251217T200000
DTSTAMP:20251209T191414Z
URL:https://wvpst.org/events/aha-bls-blended-course-11/
SUMMARY:AHA BLS Blended Course
DESCRIPTION:We will be offering a blended American Heart Association (AHA) 
 Basic Life Support (BLS) course on December 17\, 2025 at 6pm at United Tec
 hnical Center\, Clarksburg\, WV (Harrison County).  Students must purchas
 e on their own\, and complete\, the AHA Heartcode BLS online course and br
 ing a copy of the completion certificate with them on 12/17/25.  ONLY the
  skills portion of the class will be covered on 12/17/2025 to allow folks 
 that have completed the online course to receive certification.\n\nThe onl
 ine Heartcode BLS course can be purchased from AHA by clicking here.\n\nCo
 st for the class/certification card is $25\, payable by cash or check (mad
 e out to MSESC) at the class.  This fee is separate from the online cours
 e cost paid directly to AHA.\n\nClick here to register for this course.
CATEGORIES:WVPST Clarksburg
LOCATION:United Technical Center\, 251 Marietta St.\, Clarksburg\, West Vir
 ginia\, 26301\, United States
GEO:39.310776;-80.358852
X-APPLE-STRUCTURED-LOCATION;VALUE=URI;X-ADDRESS=251 Marietta St.\, Clarksbu
 rg\, West Virginia\, 26301\, United States;X-APPLE-RADIUS=100;X-TITLE=Unit
 ed Technical Center:geo:39.310776,-80.358852
END:VEVENT
BEGIN:VTIMEZONE
TZID:America/New_York
X-LIC-LOCATION:America/New_York
BEGIN:STANDARD
DTSTART:20251102T010000
TZOFFSETFROM:-0400
TZOFFSETTO:-0500
TZNAME:EST
END:STANDARD
END:VTIMEZONE
END:VCALENDAR