BEGIN:VCALENDAR
VERSION:2.0
PRODID:-//wp-events-plugin.com//7.2.3.1//EN
TZID:America/New_York
X-WR-TIMEZONE:America/New_York
BEGIN:VEVENT
UID:967@wvpst.org
DTSTART;TZID=America/New_York:20190702T080000
DTEND;TZID=America/New_York:20190702T170000
DTSTAMP:20190626T192140Z
URL:https://wvpst.org/events/active-shooter-workshop/
SUMMARY:Active Shooter Workshop
DESCRIPTION:Preparing employees for a potential active shooter incident is 
 an integral component of an organization’s incident response planning. B
 ecause active shooter incidents are unpredictable and evolve quickly\, pre
 paring for and knowing what to do in an active shooter situation can be th
 e difference between life and death. Every second counts.\n\n Unique Trai
 ning Opportunity\n\nCabell/Wayne LEPC\, St. Mary's Medical Center\, the We
 st Virginia Public Service Training -WVDE\, Mountain State Educational Ser
 vices Cooperative and the U.S. Department of Homeland Security are hosting
  a one-day workshop to enhance preparedness against active shooter inciden
 ts through:\n\n 	Developing an Emergency Action Plan with guidance from ex
 pert instructors\n 	Identifying strengths\, weaknesses\, and gaps in physi
 cal security and planning considerations via break-out sessions\n 	Learnin
 g how to prevent active shooter incidents by recognizing behavioral indica
 tors on the pathway to violence\n 	Understanding the history of significan
 t active shooter incidents through survivor stories and expert perspective
 s\n\nEnhancing Emergency Planning\nThe workshop will describe how to incor
 porate key elements of successful incident management into planning effort
 s\, such as:\n\n 	Developing communication and incident plans for employee
 s\n 	Building relationships with local first responders\n 	Coordinating wi
 th first responders before\, during\, and after an incident\n 	Integrating
  public affairs into incident management\n\nFor more information regarding
  the DHS Active Shooter Program\, visit http://www.dhs.gov/active-shooter-
 preparedness.\n\nTo Register:  https://www.govevents.com/details/32230/dh
 s-active-shooter-preparedness-workshop--huntington-wv/\n\nRegistration Clo
 ses 12pm 6/30/19
CATEGORIES:WVPST All
LOCATION:St. Marys Center for Education\, 2825 5th Ave.\, Huntington\, WV\,
  25702\, United States
GEO:38.4268625;-82.40050150000002
X-APPLE-STRUCTURED-LOCATION;VALUE=URI;X-ADDRESS=2825 5th Ave.\, Huntington\
 , WV\, 25702\, United States;X-APPLE-RADIUS=100;X-TITLE=St. Marys Center f
 or Education:geo:38.4268625,-82.40050150000002
END:VEVENT
BEGIN:VTIMEZONE
TZID:America/New_York
X-LIC-LOCATION:America/New_York
BEGIN:DAYLIGHT
DTSTART:20190310T030000
TZOFFSETFROM:-0500
TZOFFSETTO:-0400
TZNAME:EDT
END:DAYLIGHT
END:VTIMEZONE
END:VCALENDAR