BEGIN:VCALENDAR
VERSION:2.0
PRODID:-//wp-events-plugin.com//7.2.3.1//EN
TZID:America/New_York
X-WR-TIMEZONE:America/New_York
BEGIN:VEVENT
UID:2118@wvpst.org
DTSTART;TZID=America/New_York:20220709T090000
DTEND;TZID=America/New_York:20220709T170000
DTSTAMP:20220630T152446Z
URL:https://wvpst.org/events/7165/
SUMMARY:Back to the Basics
DESCRIPTION:WV Public Service Training is pleased to partner with Valley Fi
 re &amp\; Rescue to provide you Ohio Valley Training Weekends. Each month\
 , Valley will host a different class to enhance training. Attached\, you w
 ill find the planned 2022 schedule. Each month\, the next month's course w
 ill be advertised and registration opened.\n\nJuly's Training Will Be: Bac
 k to the Basics\n\n(Open to Junior Firefighters) This is a basic class des
 igned for the ‘new’ firefighter and those that wish to refresh their s
 kills. This will include the familiarization of basic equipment\, tools\, 
 hose handling\, ventilation techniques and SCBA along with search &amp\; r
 escue procedures. Participants will be working in a non-toxic smoke filled
  environment. (No beards\, no contact lenses)\n\nPPE Needed: Full PPE plu
 s an SCBA and 2 spare bottles\n\nPre-requisites:  Must either be enrolled
  in a Firefighter 1 or have completed Firefighter 1\n\nTuition: $35/person
 \n\nLocation: Valley Fire &amp\; Rescue (28409 Huntington Rd.\, Apple Grov
 e\, WV 25502)\n\nDate: July 9-10\, 2022\n\nTime: 0900-1700 daily\n\nInstru
 ctor: Jonathan Mitchell\n\nTo Register: Follow the guidelines in the attac
 hed document using the course number in this posting. WVPST is adopting a 
 new registration platform that we believe will be more user-friendly. Shou
 ld you have any issues\, please contact Eva Godbey at eva.godbey@k12.wv.us
 . \n\nLink: www.pstachio.wvnet.edu (If link doesn't work\, use Google Chr
 ome and search PSTachio.wvnet.edu)\n\nCourse ID: 23-001-05 WVPST Parkersbu
 rg\n\nIf you have any questions or issues registering\, please contact Ev
 a Godbey at eva.godbey@k12.wv.us\n\nPST Class Registrations\n\nGo to:  h
 ttps://pstachio.wvnet.edu/\n\nIf you don’t have an account\, click Regis
 ter.\n\n 	Under location\, select the correct region of the hosted class.\
 n 	Parkersburg: Calhoun\, Gilmer\, Jackson\, Mason\, Putnam\, Roane\, Wirt
 \, Wood\n 	Charleston: Boone\, Cabell\, Clay\, Kanawha\, Lincoln\, Logan\,
  Mingo\, Wayne\n 	Complete all of the information.\n\n 	WVOEMS # is not ap
 plicable\, if you do not have a WVOEMS account\n\n\n 	Verify account throu
 gh the email you receive from PSTachio.\n\n 	Once you have verified your a
 ccount\, the respective PST Regional Coordinator and Specialist will recei
 ve a notification to approve your account.\n\n\n 	After your account has b
 een approved\, you need to log in using the email address and password you
  set up.\n 	Click Registration\n 	Enter the course number provided to you 
 for the respective course.\n\n 	Parkersburg 21-XXX-05\n 	Charleston 21-XXX
 -03\n\n\n 	Press Enter after the course number is entered\n 	Click Registe
 r\n\n 	You should be rerouted to your Transcript.\n\n\n\n**If you have tak
 en PST courses but have never created an account or try to register and ar
 e prompted with an account already exists for that username\, contact your
  local PST for a password reset.\n\n**Using the email address and password
  will allow you to review your transcript for all PST classes you have tak
 en since July 2016\, provided you have used the same email address for eac
 h region.  If you have taken a class and received a certificate\, but it 
 doesn’t show up on your transcript\, contact the PST office for the area
  you took the course.\n\n**If you are unable to log in\, please contact Ev
 a Godbey for a password reset.  Eva.godbey@k12.wv.us or (304) 766-0011 
 ext. 22.
CATEGORIES:WVPST Parkersburg
LOCATION:Valley Fire & Rescue\, 28409 Huntington Road\, Apple Grove\, WV\, 
 25502\, United States
GEO:38.659832;-82.167412
X-APPLE-STRUCTURED-LOCATION;VALUE=URI;X-ADDRESS=28409 Huntington Road\, App
 le Grove\, WV\, 25502\, United States;X-APPLE-RADIUS=100;X-TITLE=Valley Fi
 re & Rescue:geo:38.659832,-82.167412
END:VEVENT
BEGIN:VTIMEZONE
TZID:America/New_York
X-LIC-LOCATION:America/New_York
BEGIN:DAYLIGHT
DTSTART:20220313T030000
TZOFFSETFROM:-0500
TZOFFSETTO:-0400
TZNAME:EDT
END:DAYLIGHT
END:VTIMEZONE
END:VCALENDAR