BEGIN:VCALENDAR
VERSION:2.0
PRODID:-//wp-events-plugin.com//7.2.3.1//EN
TZID:America/New_York
X-WR-TIMEZONE:America/New_York
BEGIN:VEVENT
UID:1000@wvpst.org
DTSTART;TZID=America/New_York:20190812T173000
DTEND;TZID=America/New_York:20190812T213000
DTSTAMP:20190712T134525Z
URL:https://wvpst.org/events/4457/
SUMMARY:EMT Basic Initial
DESCRIPTION:Emergency Medical Technician (EMT)\n\nThis 155 hour minimum pro
 gram is the basic level of EMT care by the West Virginia Office of Emergen
 cy Medical Services. This class meets the National Standards Curriculum. 
  The EMT candidate must successfully complete the program\, complete requi
 red clinical time\, complete the practical skills testing\, and obtain a 
 passing score on the WVOEMS state option test or the computer-based Natio
 nal Registry exam. Certification will be good for 4 years.\n\nDates:   
           Monday August 12\, 2019-January 8\, 2020\n\nDays:   
         Mondays and Wednesdays: 5:30 pm – 9:30 pm\n\nInstructor (
 s): Linda Tucker\n\nFee:   Tuition $300.00 + books and supplies $160 = 
 $460 pay to Mountain State ESC\n\n$ 120.00 WVOEMS State Fees &amp\; Finger
  Prints (through Continuum)\n\n$ 80.00 National Registry\n\nFEES DUE FIRST
  NIGHT OF CLASS!  FEES ARE NON-REFUNDABLE!\n\nTo Register\, please contac
 t Tammy Norma at 304-766-0011 ext. 21.  
CATEGORIES:WVPST Charleston
LOCATION:WVPST - Charleston\, 501 22nd St.\, Dunbar\, 25064\, United States
GEO:38.366469;-81.74986519999999
X-APPLE-STRUCTURED-LOCATION;VALUE=URI;X-ADDRESS=501 22nd St.\, Dunbar\, 250
 64\, United States;X-APPLE-RADIUS=100;X-TITLE=WVPST - Charleston:geo:38.36
 6469,-81.74986519999999
END:VEVENT
BEGIN:VTIMEZONE
TZID:America/New_York
X-LIC-LOCATION:America/New_York
BEGIN:DAYLIGHT
DTSTART:20190310T030000
TZOFFSETFROM:-0500
TZOFFSETTO:-0400
TZNAME:EDT
END:DAYLIGHT
END:VTIMEZONE
END:VCALENDAR