BEGIN:VCALENDAR
VERSION:2.0
PRODID:-//wp-events-plugin.com//7.2.3.1//EN
TZID:America/New_York
X-WR-TIMEZONE:America/New_York
BEGIN:VEVENT
UID:2558@wvpst.org
DTSTART;TZID=America/New_York:20230809T190000
DTEND;TZID=America/New_York:20230809T210000
DTSTAMP:20230807T124518Z
URL:https://wvpst.org/events/12-lead-ekgs/
SUMMARY:12 Lead EKGs
DESCRIPTION:WVPST is pleased to announce a 12 Lead EKGs course at Lubeck VF
 D on August 9\, 2023.\n\nCLASS DATE: August 9\, 2023\n\nTIMES: 1900 TO 210
 0\n\nLOCATION: Lubeck VFD (1340 Harris Highway\, Parkersburg\, WV 26101)\n
 \nSPONSORED BY: Lubeck VFD\, WV Public Service Training- Mid-Ohio Valley R
 egion\, WCFFA\, SJAS\n\nREGISTRATION FEE: None\n\nWV Continuing Education 
 Hours will be Awarded\n\nA LIGHT DINNER WILL BE SERVED\n\nTo Register: Fol
 low the guidelines in the attached document using the course number in thi
 s posting. WVPST is adopting a new registration platform that we believe w
 ill be more user-friendly. Should you have any issues\, please contact Eva
  Godbey at eva.godbey@k12.wv.us.\n\nLink: www.pstachio.wvnet.edu (If link 
 doesn't work\, use Google Chrome and search PSTachio.wvnet.edu)\n\nWVPST C
 ourse ID:  24-050-05 WVPST Parkersburg\n\nCONTACT FOR INFORMATION: \n\n
 Michael E. Tanner\n\n(304) 482-9894\n\ntannerme@suddenlink.net\n\n 
CATEGORIES:WVPST Parkersburg
LOCATION:Lubeck VFD\, 1340 Harris Highway\, Parkersburg\, WV\, 26101\, Unit
 ed States
GEO:39.2400978;-81.62784399999998
X-APPLE-STRUCTURED-LOCATION;VALUE=URI;X-ADDRESS=1340 Harris Highway\, Parke
 rsburg\, WV\, 26101\, United States;X-APPLE-RADIUS=100;X-TITLE=Lubeck VFD:
 geo:39.2400978,-81.62784399999998
END:VEVENT
BEGIN:VTIMEZONE
TZID:America/New_York
X-LIC-LOCATION:America/New_York
BEGIN:DAYLIGHT
DTSTART:20230312T030000
TZOFFSETFROM:-0500
TZOFFSETTO:-0400
TZNAME:EDT
END:DAYLIGHT
END:VTIMEZONE
END:VCALENDAR